BEGIN:VCALENDAR
VERSION:2.0
PRODID:-//PMCV - ECPv6.15.20//NONSGML v1.0//EN
CALSCALE:GREGORIAN
METHOD:PUBLISH
X-WR-CALNAME:PMCV
X-ORIGINAL-URL:https://www.pmcv.com.au
X-WR-CALDESC:Events for PMCV
REFRESH-INTERVAL;VALUE=DURATION:PT1H
X-Robots-Tag:noindex
X-PUBLISHED-TTL:PT1H
BEGIN:VTIMEZONE
TZID:Australia/Melbourne
BEGIN:STANDARD
TZOFFSETFROM:+1100
TZOFFSETTO:+1000
TZNAME:AEST
DTSTART:20220402T160000
END:STANDARD
BEGIN:DAYLIGHT
TZOFFSETFROM:+1000
TZOFFSETTO:+1100
TZNAME:AEDT
DTSTART:20221001T160000
END:DAYLIGHT
BEGIN:STANDARD
TZOFFSETFROM:+1100
TZOFFSETTO:+1000
TZNAME:AEST
DTSTART:20230401T160000
END:STANDARD
BEGIN:DAYLIGHT
TZOFFSETFROM:+1000
TZOFFSETTO:+1100
TZNAME:AEDT
DTSTART:20230930T160000
END:DAYLIGHT
BEGIN:STANDARD
TZOFFSETFROM:+1100
TZOFFSETTO:+1000
TZNAME:AEST
DTSTART:20240406T160000
END:STANDARD
BEGIN:DAYLIGHT
TZOFFSETFROM:+1000
TZOFFSETTO:+1100
TZNAME:AEDT
DTSTART:20241005T160000
END:DAYLIGHT
BEGIN:STANDARD
TZOFFSETFROM:+1100
TZOFFSETTO:+1000
TZNAME:AEST
DTSTART:20250405T160000
END:STANDARD
BEGIN:DAYLIGHT
TZOFFSETFROM:+1000
TZOFFSETTO:+1100
TZNAME:AEDT
DTSTART:20251004T160000
END:DAYLIGHT
BEGIN:STANDARD
TZOFFSETFROM:+1100
TZOFFSETTO:+1000
TZNAME:AEST
DTSTART:20260404T160000
END:STANDARD
BEGIN:DAYLIGHT
TZOFFSETFROM:+1000
TZOFFSETTO:+1100
TZNAME:AEDT
DTSTART:20261003T160000
END:DAYLIGHT
END:VTIMEZONE
BEGIN:VTIMEZONE
TZID:UTC
BEGIN:STANDARD
TZOFFSETFROM:+0000
TZOFFSETTO:+0000
TZNAME:UTC
DTSTART:20210101T000000
END:STANDARD
END:VTIMEZONE
BEGIN:VEVENT
DTSTART;TZID=Australia/Melbourne:20250429T160000
DTEND;TZID=Australia/Melbourne:20250429T170000
DTSTAMP:20260421T145156
CREATED:20250303T235337Z
LAST-MODIFIED:20250415T003603Z
UID:14761-1745942400-1745946000@www.pmcv.com.au
SUMMARY:Barwon Health Intern Information Session
DESCRIPTION:Date: April 29th at 4.00pm \nVenue: Health\, Education & Research Building (HERB) Lecture Theatre \nAddress: 285–299 Ryrie Street\, Geelong \nDirections: Opposite University Hospital Geelong Emergency Department\, entry is via Kitchener House (KHERB). \n  \nJoin the webinar from your PC or device: \nZoom link: click here \nWebinar ID: 893 1765 4772 \nPasscode: 708355
URL:https://www.pmcv.com.au/pmcv-event/barwon-health-information-session/
LOCATION:Hybrid Event
CATEGORIES:Career Event,Intern Match
END:VEVENT
BEGIN:VEVENT
DTSTART;TZID=Australia/Melbourne:20240430T160000
DTEND;TZID=Australia/Melbourne:20240430T170000
DTSTAMP:20260421T145156
CREATED:20240315T054322Z
LAST-MODIFIED:20240423T032114Z
UID:11361-1714492800-1714496400@www.pmcv.com.au
SUMMARY:2024 Barwon Health Intern Information Session
DESCRIPTION:The Barwon Health Intern Information Session will be happening Tuesday 30th of April 2024 at 4:00pm \nAttend the event in person: \nVenue: Health\, Education & Research Building (HERB) Lecture Theatre \nAddress: 285–299 Ryrie Street\, Geelong \nDirections: Opposite University Hospital Geelong Emergency Department\, entry is via Kitchener House (KHERB). \nJoin the webinar from your PC or device: \nhttps://barwonhealth-org-au.zoom.us/j/82913477690?pwd=zC2wWMqFUrLM4Yer5LJ4jKq5O5wOpg.5kpswaDcqImSTnWX \nWebinar ID: 829 1347 7690  Passcode: 203594 \n  \nThe session will also be recorded and uploaded to Barwon Health’s website following the event.
URL:https://www.pmcv.com.au/pmcv-event/2024-barwon-health-intern-information-session/
LOCATION:Hybrid Event
CATEGORIES:Career Event
END:VEVENT
BEGIN:VEVENT
DTSTART;TZID=Australia/Melbourne:20230502T160000
DTEND;TZID=Australia/Melbourne:20230502T170000
DTSTAMP:20260421T145156
CREATED:20230307T023725Z
LAST-MODIFIED:20230405T232306Z
UID:7138-1683043200-1683046800@www.pmcv.com.au
SUMMARY:2023 Barwon Health Intern Information Session
DESCRIPTION:The 2023 Barwon Health Information Session will be happening Tuesday 2nd May at 4:00pm. \nRegister for the session via eventbrite below: \n[fusion_button link=”https://www.eventbrite.com.au/e/barwon-health-2024-intern-information-session-tickets-579760117117″ title=”” target=”_self” link_attributes=”” alignment_medium=”” alignment_small=”” alignment=”” modal=”” hide_on_mobile=”small-visibility\,medium-visibility\,large-visibility” sticky_display=”normal\,sticky” class=”” id=”” color=”default” button_gradient_top_color=”” hue=”” saturation=”” lightness=”” alpha=”” button_gradient_bottom_color=”” button_gradient_top_color_hover=”” button_gradient_bottom_color_hover=”” gradient_start_position=”” gradient_end_position=”” gradient_type=”” radial_direction=”” linear_angle=”180″ accent_color=”” accent_hover_color=”” type=”” bevel_color=”” bevel_color_hover=”” border_top=”” border_right=”” border_bottom=”” border_left=”” border_radius_top_left=”” border_radius_top_right=”” border_radius_bottom_right=”” border_radius_bottom_left=”” border_color=”” border_hover_color=”” size=”” padding_top=”” padding_right=”” padding_bottom=”” padding_left=”” fusion_font_family_button_font=”” fusion_font_variant_button_font=”” font_size=”” line_height=”” letter_spacing=”” text_transform=”” stretch=”default” margin_top=”” margin_right=”” margin_bottom=”” margin_left=”” icon=”” icon_position=”left” icon_divider=”no” hover_transition=”none” animation_type=”” animation_direction=”left” animation_color=”” animation_speed=”0.3″ animation_delay=”0″ animation_offset=””]Register for session here[/fusion_button]
URL:https://www.pmcv.com.au/pmcv-event/2023-barwon-health-intern-information-session/
LOCATION:Online
CATEGORIES:Career Event
END:VEVENT
BEGIN:VEVENT
DTSTART;TZID=UTC:20220503T160000
DTEND;TZID=UTC:20220503T170000
DTSTAMP:20260421T145156
CREATED:20220329T105038Z
LAST-MODIFIED:20220410T141316Z
UID:3223-1651593600-1651597200@www.pmcv.com.au
SUMMARY:Barwon Health 2023 Intern Information Session
DESCRIPTION:The Barwon Health 2023 Intern Information Session will take place on May 3rd. \nYou will be able to attend this session in person or remotely. \n[fusion_button link=”https://www.eventbrite.com.au/e/barwon-health-2023-intern-information-session-tickets-314203419887″ title=”” target=”_blank” link_attributes=”” alignment_medium=”” alignment_small=”” alignment=”” modal=”” hide_on_mobile=”small-visibility\,medium-visibility\,large-visibility” sticky_display=”normal\,sticky” class=”” id=”” color=”default” button_gradient_top_color=”” hue=”” saturation=”” lightness=”” alpha=”” button_gradient_bottom_color=”” button_gradient_top_color_hover=”” button_gradient_bottom_color_hover=”” gradient_start_position=”” gradient_end_position=”” gradient_type=”” radial_direction=”” linear_angle=”180″ accent_color=”” accent_hover_color=”” type=”” bevel_color=”” bevel_color_hover=”” border_top=”” border_right=”” border_bottom=”” border_left=”” border_radius_top_left=”” border_radius_top_right=”” border_radius_bottom_right=”” border_radius_bottom_left=”” border_color=”” border_hover_color=”” size=”” padding_top=”” padding_right=”” padding_bottom=”” padding_left=”” fusion_font_family_button_font=”” fusion_font_variant_button_font=”” font_size=”” line_height=”” letter_spacing=”” text_transform=”” stretch=”default” margin_top=”” margin_right=”” margin_bottom=”” margin_left=”” icon=”” icon_position=”left” icon_divider=”no” animation_type=”” animation_direction=”left” animation_speed=”0.3″ animation_offset=””]Register Now[/fusion_button]
URL:https://www.pmcv.com.au/pmcv-event/barwon-health-2023-intern-information-session/
LOCATION:Online
CATEGORIES:Career Event
END:VEVENT
END:VCALENDAR