BEGIN:VCALENDAR
VERSION:2.0
PRODID:-//PMCV - ECPv6.15.20//NONSGML v1.0//EN
CALSCALE:GREGORIAN
METHOD:PUBLISH
X-ORIGINAL-URL:https://www.pmcv.com.au
X-WR-CALDESC:Events for PMCV
REFRESH-INTERVAL;VALUE=DURATION:PT1H
X-Robots-Tag:noindex
X-PUBLISHED-TTL:PT1H
BEGIN:VTIMEZONE
TZID:Australia/Melbourne
BEGIN:STANDARD
TZOFFSETFROM:+1100
TZOFFSETTO:+1000
TZNAME:AEST
DTSTART:20230401T160000
END:STANDARD
BEGIN:DAYLIGHT
TZOFFSETFROM:+1000
TZOFFSETTO:+1100
TZNAME:AEDT
DTSTART:20230930T160000
END:DAYLIGHT
BEGIN:STANDARD
TZOFFSETFROM:+1100
TZOFFSETTO:+1000
TZNAME:AEST
DTSTART:20240406T160000
END:STANDARD
BEGIN:DAYLIGHT
TZOFFSETFROM:+1000
TZOFFSETTO:+1100
TZNAME:AEDT
DTSTART:20241005T160000
END:DAYLIGHT
BEGIN:STANDARD
TZOFFSETFROM:+1100
TZOFFSETTO:+1000
TZNAME:AEST
DTSTART:20250405T160000
END:STANDARD
BEGIN:DAYLIGHT
TZOFFSETFROM:+1000
TZOFFSETTO:+1100
TZNAME:AEDT
DTSTART:20251004T160000
END:DAYLIGHT
BEGIN:STANDARD
TZOFFSETFROM:+1100
TZOFFSETTO:+1000
TZNAME:AEST
DTSTART:20260404T160000
END:STANDARD
BEGIN:DAYLIGHT
TZOFFSETFROM:+1000
TZOFFSETTO:+1100
TZNAME:AEDT
DTSTART:20261003T160000
END:DAYLIGHT
END:VTIMEZONE
BEGIN:VEVENT
DTSTART;TZID=Australia/Melbourne:20250503T100000
DTEND;TZID=Australia/Melbourne:20250503T150000
DTSTAMP:20260421T112739
CREATED:20250304T000813Z
LAST-MODIFIED:20250305T222748Z
UID:14777-1746266400-1746284400@www.pmcv.com.au
SUMMARY:Goulburn Valley Health Tour
DESCRIPTION:Saturday 3 May\, 10:00am – 3:00pm guided bus GV Health tour\, lunch with JMOs\, Shepparton tour \nInterns\, HMOs and Registrars working at GVH will be available to speak with on the site tour/luncheon\nQueries to Jerry Tumney\, Medical Education Officer\, jerry.tumney@gvhealth.org.au \nClick the link to register: \nhttps://www.surveymonkey.com/r/GVHTour030525
URL:https://www.pmcv.com.au/pmcv-event/goulburn-valley-health-tour/
LOCATION:Goulburn Valley Health\, 2/2-48 Graham St\, Shepparton\, VIC\, 3630\, Australia
CATEGORIES:Career Event,Intern Match
END:VEVENT
BEGIN:VEVENT
DTSTART;TZID=Australia/Melbourne:20250430T163000
DTEND;TZID=Australia/Melbourne:20250430T173000
DTSTAMP:20260421T112739
CREATED:20250304T000629Z
LAST-MODIFIED:20250415T003651Z
UID:14775-1746030600-1746034200@www.pmcv.com.au
SUMMARY:Goulburn Valley Health Intern Information Session
DESCRIPTION:Join the meeting now \nMeeting ID: 455 123 441 902 \nPasscode: Ct9qV3um
URL:https://www.pmcv.com.au/pmcv-event/goulburn-valley-health/
LOCATION:Online
CATEGORIES:Career Event,Intern Match
END:VEVENT
BEGIN:VEVENT
DTSTART;TZID=Australia/Melbourne:20240410T173000
DTEND;TZID=Australia/Melbourne:20240410T190000
DTSTAMP:20260421T112739
CREATED:20240326T024542Z
LAST-MODIFIED:20240408T015110Z
UID:11610-1712770200-1712775600@www.pmcv.com.au
SUMMARY:2024 Goulburn Valley Health Intern and PGY2 Information Session
DESCRIPTION:The Goulburn Valley Health Intern and PGY2 Information Session will be held on Wednesday 10th April at 5:30pm – 7:00pm. \nPresenters: Junior Medical Staff\, Medical Education\, Medical Workforce\, and GV Health Executive \n[fusion_button link=”https://aus01.safelinks.protection.outlook.com/ap/t-59584e83/?url=https%3A%2F%2Fteams.microsoft.com%2Fl%2Fmeetup-join%2F19%253ameeting_ZjA2YmIwMTQtNGNkYS00YTIzLWI3YTQtZjAxZTBjODBkMmNj%2540thread.v2%2F0%3Fcontext%3D%257b%2522Tid%2522%253a%2522a6dc7a79-38df-491b-bda4-d37fcf726814%2522%252c%2522Oid%2522%253a%2522ee96d29f-9ecb-4a1f-8897-36445ca88179%2522%257d&data=05%7C02%7Cmvellios%40pmcv.com.au%7C1b9e426fbadb468eb43108dc4d3db1f7%7Ce786c25a772e43408f4ed50476ff2ba6%7C0%7C0%7C638470174603811496%7CUnknown%7CTWFpbGZsb3d8eyJWIjoiMC4wLjAwMDAiLCJQIjoiV2luMzIiLCJBTiI6Ik1haWwiLCJXVCI6Mn0%3D%7C0%7C%7C%7C&sdata=uSRus3z%2BOSrVo5OgZ56HnXnGRw9cnaLeWK7B8HWcSWU%3D&reserved=0″ title=”” target=”_self” link_attributes=”” alignment_medium=”” alignment_small=”” alignment=”” modal=”” hide_on_mobile=”small-visibility\,medium-visibility\,large-visibility” sticky_display=”normal\,sticky” class=”” id=”” color=”default” button_gradient_top_color_hover=”” hue=”” saturation=”” lightness=”” alpha=”” button_gradient_top_color=”” button_gradient_bottom_color_hover=”” button_gradient_bottom_color=”” gradient_start_position=”” gradient_end_position=”” gradient_type=”” radial_direction=”” linear_angle=”180″ accent_hover_color=”” accent_color=”” type=”” bevel_color=”” bevel_color_hover=”” border_top=”” border_right=”” border_bottom=”” border_left=”” border_radius_top_left=”” border_radius_top_right=”” border_radius_bottom_right=”” border_radius_bottom_left=”” border_hover_color=”” border_color=”” size=”” padding_top=”” padding_right=”” padding_bottom=”” padding_left=”” fusion_font_family_button_font=”” fusion_font_variant_button_font=”” font_size=”” line_height=”” letter_spacing=”” text_transform=”” stretch=”default” margin_top=”” margin_right=”” margin_bottom=”” margin_left=”” icon=”” icon_position=”left” icon_divider=”no” hover_transition=”none” animation_type=”” animation_direction=”left” animation_color=”” animation_speed=”0.3″ animation_delay=”0″ animation_offset=””]Join session here[/fusion_button] \nMeeting ID: 473 140 708 959 \nPasscode: SkrMu2
URL:https://www.pmcv.com.au/pmcv-event/2024-goulburn-valley-health-intern-and-pgy2-information-session/
LOCATION:Online
CATEGORIES:Career Event
END:VEVENT
END:VCALENDAR