BEGIN:VCALENDAR
VERSION:2.0
PRODID:-//PMCV - ECPv6.15.20//NONSGML v1.0//EN
CALSCALE:GREGORIAN
METHOD:PUBLISH
X-WR-CALNAME:PMCV
X-ORIGINAL-URL:https://www.pmcv.com.au
X-WR-CALDESC:Events for PMCV
REFRESH-INTERVAL;VALUE=DURATION:PT1H
X-Robots-Tag:noindex
X-PUBLISHED-TTL:PT1H
BEGIN:VTIMEZONE
TZID:Australia/Melbourne
BEGIN:STANDARD
TZOFFSETFROM:+1100
TZOFFSETTO:+1000
TZNAME:AEST
DTSTART:20250405T160000
END:STANDARD
BEGIN:DAYLIGHT
TZOFFSETFROM:+1000
TZOFFSETTO:+1100
TZNAME:AEDT
DTSTART:20251004T160000
END:DAYLIGHT
BEGIN:STANDARD
TZOFFSETFROM:+1100
TZOFFSETTO:+1000
TZNAME:AEST
DTSTART:20260404T160000
END:STANDARD
BEGIN:DAYLIGHT
TZOFFSETFROM:+1000
TZOFFSETTO:+1100
TZNAME:AEDT
DTSTART:20261003T160000
END:DAYLIGHT
BEGIN:STANDARD
TZOFFSETFROM:+1100
TZOFFSETTO:+1000
TZNAME:AEST
DTSTART:20270403T160000
END:STANDARD
BEGIN:DAYLIGHT
TZOFFSETFROM:+1000
TZOFFSETTO:+1100
TZNAME:AEDT
DTSTART:20271002T160000
END:DAYLIGHT
END:VTIMEZONE
BEGIN:VEVENT
DTSTART;TZID=Australia/Melbourne:20260429T173000
DTEND;TZID=Australia/Melbourne:20260429T193000
DTSTAMP:20260421T125803
CREATED:20260318T220431Z
LAST-MODIFIED:20260414T050321Z
UID:20406-1777483800-1777491000@www.pmcv.com.au
SUMMARY:Alfred Health - Intern Health Service Information Session
DESCRIPTION:The Alfred Health Intern Health Service Information Session will be held on Wednesday the 19th of April\, from 5:30pm– 7:30pm online.  \nYou can register to join this event via: https://www.eventbrite.com.au/e/bayside-health-alfred-care-group-2027-virtual-intern-information-session-tickets-1985560273227?
URL:https://www.pmcv.com.au/pmcv-event/alfred-health-intern-health-service-information-session/
LOCATION:Online
CATEGORIES:Intern Match
END:VEVENT
END:VCALENDAR