BEGIN:VCALENDAR
VERSION:2.0
PRODID:-//PMCV - ECPv6.15.20//NONSGML v1.0//EN
CALSCALE:GREGORIAN
METHOD:PUBLISH
X-WR-CALNAME:PMCV
X-ORIGINAL-URL:https://www.pmcv.com.au
X-WR-CALDESC:Events for PMCV
REFRESH-INTERVAL;VALUE=DURATION:PT1H
X-Robots-Tag:noindex
X-PUBLISHED-TTL:PT1H
BEGIN:VTIMEZONE
TZID:Australia/Melbourne
BEGIN:STANDARD
TZOFFSETFROM:+1100
TZOFFSETTO:+1000
TZNAME:AEST
DTSTART:20250405T160000
END:STANDARD
BEGIN:DAYLIGHT
TZOFFSETFROM:+1000
TZOFFSETTO:+1100
TZNAME:AEDT
DTSTART:20251004T160000
END:DAYLIGHT
BEGIN:STANDARD
TZOFFSETFROM:+1100
TZOFFSETTO:+1000
TZNAME:AEST
DTSTART:20260404T160000
END:STANDARD
BEGIN:DAYLIGHT
TZOFFSETFROM:+1000
TZOFFSETTO:+1100
TZNAME:AEDT
DTSTART:20261003T160000
END:DAYLIGHT
BEGIN:STANDARD
TZOFFSETFROM:+1100
TZOFFSETTO:+1000
TZNAME:AEST
DTSTART:20270403T160000
END:STANDARD
BEGIN:DAYLIGHT
TZOFFSETFROM:+1000
TZOFFSETTO:+1100
TZNAME:AEDT
DTSTART:20271002T160000
END:DAYLIGHT
END:VTIMEZONE
BEGIN:VEVENT
DTSTART;TZID=Australia/Melbourne:20260422T163000
DTEND;TZID=Australia/Melbourne:20260422T180000
DTSTAMP:20260421T062850
CREATED:20260318T221520Z
LAST-MODIFIED:20260318T221520Z
UID:20410-1776875400-1776880800@www.pmcv.com.au
SUMMARY:Bendigo Health - Intern Health Service Information Session (Online)
DESCRIPTION:The Bendigo Health Intern Health Service Information Session will be held on Wednesday 22nd April\, from 4:30pm online.  \nYou can register for the session online by clicking here. \nThey are also running an in-person session\, you can view details here.
URL:https://www.pmcv.com.au/pmcv-event/bendigo-health-intern-health-service-information-session-online/
LOCATION:Online
CATEGORIES:Intern Match
END:VEVENT
END:VCALENDAR