BEGIN:VCALENDAR
VERSION:2.0
PRODID:-//PMCV - ECPv6.15.20//NONSGML v1.0//EN
CALSCALE:GREGORIAN
METHOD:PUBLISH
X-WR-CALNAME:PMCV
X-ORIGINAL-URL:https://www.pmcv.com.au
X-WR-CALDESC:Events for PMCV
REFRESH-INTERVAL;VALUE=DURATION:PT1H
X-Robots-Tag:noindex
X-PUBLISHED-TTL:PT1H
BEGIN:VTIMEZONE
TZID:Australia/Melbourne
BEGIN:STANDARD
TZOFFSETFROM:+1100
TZOFFSETTO:+1000
TZNAME:AEST
DTSTART:20250405T160000
END:STANDARD
BEGIN:DAYLIGHT
TZOFFSETFROM:+1000
TZOFFSETTO:+1100
TZNAME:AEDT
DTSTART:20251004T160000
END:DAYLIGHT
BEGIN:STANDARD
TZOFFSETFROM:+1100
TZOFFSETTO:+1000
TZNAME:AEST
DTSTART:20260404T160000
END:STANDARD
BEGIN:DAYLIGHT
TZOFFSETFROM:+1000
TZOFFSETTO:+1100
TZNAME:AEDT
DTSTART:20261003T160000
END:DAYLIGHT
BEGIN:STANDARD
TZOFFSETFROM:+1100
TZOFFSETTO:+1000
TZNAME:AEST
DTSTART:20270403T160000
END:STANDARD
BEGIN:DAYLIGHT
TZOFFSETFROM:+1000
TZOFFSETTO:+1100
TZNAME:AEDT
DTSTART:20271002T160000
END:DAYLIGHT
END:VTIMEZONE
BEGIN:VEVENT
DTSTART;VALUE=DATE:20260405
DTEND;VALUE=DATE:20260406
DTSTAMP:20260421T093511
CREATED:20260306T000834Z
LAST-MODIFIED:20260327T003410Z
UID:19832-1775347200-1775433599@www.pmcv.com.au
SUMMARY:Creating a resume and sourcing references for the Intern Match Webinar
DESCRIPTION:This webinar will be made available on demand from the 5th of April. You can access further information on the session here. \nIn 2026 the intern match will again be an optimised ballot. However\, submitting a resume and sourcing references remain required parts of your intern application. This session is designed to help you meet those requirements with confidence. \nThis webinar will support you to create an intern-match specific resume using the preferred resume template and to understand how to identify\, approach and prepare appropriate referees. \nDuring the session we will step through each section of the resume template and cover: \n\nWhat content is required for each section\nDifferent content and formatting options and how to choose what works best for you\nWhat to do if you have limited content or too much information\nPractical writing and editing tips\nHow to source suitable referees\nHow to approach referees professionally and prepare them in advance\nWhat referees are typically asked and how to support them to provide strong references\nCommon questions that arise during the intern application process\n\nWhile this session focuses on the intern match\, resume development and referee management are essential professional skills in medicine. Time spent building these skills now will support you through internship and future competitive recruitment processes throughout your career. \nRegistration is essential. To register you will need to join AMA Victoria as a student member which is free. Membership and registration allow us to share event information\, the recording\, supporting resources and responses to questions we may not be able to address during the live session.
URL:https://www.pmcv.com.au/pmcv-event/creating-a-resume-and-sourcing-references-for-the-intern-match-webinar/
LOCATION:Online
CATEGORIES:Intern Match
END:VEVENT
END:VCALENDAR