BEGIN:VCALENDAR
VERSION:2.0
PRODID:-//PMCV - ECPv6.15.20//NONSGML v1.0//EN
CALSCALE:GREGORIAN
METHOD:PUBLISH
X-WR-CALNAME:PMCV
X-ORIGINAL-URL:https://www.pmcv.com.au
X-WR-CALDESC:Events for PMCV
REFRESH-INTERVAL;VALUE=DURATION:PT1H
X-Robots-Tag:noindex
X-PUBLISHED-TTL:PT1H
BEGIN:VTIMEZONE
TZID:Australia/Melbourne
BEGIN:STANDARD
TZOFFSETFROM:+1100
TZOFFSETTO:+1000
TZNAME:AEST
DTSTART:20250405T160000
END:STANDARD
BEGIN:DAYLIGHT
TZOFFSETFROM:+1000
TZOFFSETTO:+1100
TZNAME:AEDT
DTSTART:20251004T160000
END:DAYLIGHT
BEGIN:STANDARD
TZOFFSETFROM:+1100
TZOFFSETTO:+1000
TZNAME:AEST
DTSTART:20260404T160000
END:STANDARD
BEGIN:DAYLIGHT
TZOFFSETFROM:+1000
TZOFFSETTO:+1100
TZNAME:AEDT
DTSTART:20261003T160000
END:DAYLIGHT
BEGIN:STANDARD
TZOFFSETFROM:+1100
TZOFFSETTO:+1000
TZNAME:AEST
DTSTART:20270403T160000
END:STANDARD
BEGIN:DAYLIGHT
TZOFFSETFROM:+1000
TZOFFSETTO:+1100
TZNAME:AEDT
DTSTART:20271002T160000
END:DAYLIGHT
END:VTIMEZONE
BEGIN:VEVENT
DTSTART;TZID=Australia/Melbourne:20260416T190000
DTEND;TZID=Australia/Melbourne:20260416T200000
DTSTAMP:20260421T080123
CREATED:20260413T052106Z
LAST-MODIFIED:20260414T031520Z
UID:20965-1776366000-1776369600@www.pmcv.com.au
SUMMARY:Echuca Regional Health - Ask the Interns Webinar
DESCRIPTION:The Echuca Regional Health – Ask the Interns Webinar is taking place on the 16th of April at 7pm. \n‘Ask the Interns’ Thursday 16th April 1900-2000 \nhttps://teams.microsoft.com/meet/44183479324263?p=KDRYohvWrt22ONuClG \nMeeting ID: 441 834 793 242 63 \nPasscode: Mv2uj3bG
URL:https://www.pmcv.com.au/pmcv-event/echuca-regional-health-ask-the-interns-webinar/
LOCATION:Online
CATEGORIES:Intern Match
END:VEVENT
END:VCALENDAR