BEGIN:VCALENDAR
VERSION:2.0
PRODID:-//PMCV - ECPv6.15.20//NONSGML v1.0//EN
CALSCALE:GREGORIAN
METHOD:PUBLISH
X-WR-CALNAME:PMCV
X-ORIGINAL-URL:https://www.pmcv.com.au
X-WR-CALDESC:Events for PMCV
REFRESH-INTERVAL;VALUE=DURATION:PT1H
X-Robots-Tag:noindex
X-PUBLISHED-TTL:PT1H
BEGIN:VTIMEZONE
TZID:Australia/Melbourne
BEGIN:STANDARD
TZOFFSETFROM:+1100
TZOFFSETTO:+1000
TZNAME:AEST
DTSTART:20250405T160000
END:STANDARD
BEGIN:DAYLIGHT
TZOFFSETFROM:+1000
TZOFFSETTO:+1100
TZNAME:AEDT
DTSTART:20251004T160000
END:DAYLIGHT
BEGIN:STANDARD
TZOFFSETFROM:+1100
TZOFFSETTO:+1000
TZNAME:AEST
DTSTART:20260404T160000
END:STANDARD
BEGIN:DAYLIGHT
TZOFFSETFROM:+1000
TZOFFSETTO:+1100
TZNAME:AEDT
DTSTART:20261003T160000
END:DAYLIGHT
BEGIN:STANDARD
TZOFFSETFROM:+1100
TZOFFSETTO:+1000
TZNAME:AEST
DTSTART:20270403T160000
END:STANDARD
BEGIN:DAYLIGHT
TZOFFSETFROM:+1000
TZOFFSETTO:+1100
TZNAME:AEDT
DTSTART:20271002T160000
END:DAYLIGHT
END:VTIMEZONE
BEGIN:VEVENT
DTSTART;VALUE=DATE:20260507
DTEND;VALUE=DATE:20260508
DTSTAMP:20260421T075716
CREATED:20260320T023316Z
LAST-MODIFIED:20260327T003455Z
UID:20437-1778112000-1778198399@www.pmcv.com.au
SUMMARY:Preparing for the VRPA online interview
DESCRIPTION:This webinar will be made available on demand from the 5th of May. \nYou can find more details and information about how to join this webinar here. \nIf you’re applying for a Victorian Rural Preferential Allocation (VRPA) intern position or are a VIA Priority 4 student\, this session will help you prepare for the pre-recorded online interview process\, which will form part of the merit-based application process. \nIn this webinar we will walk through what to expect on the day\, including: \n\nHow the interview process works and what the experience is like\nThe online format and technical setup\nThe types of questions you may be asked\n\nWe will then help you prepare by: \n\nProviding sample questions and outline how to structure your responses\nDiscuss what you can do to prepare in advance\nProvide tips and techniques to manage nerves and stay focused on the day\n\nThis on-demand webinar is delivered by AMA Victoria’s professional development and careers team in collaboration with MSCV. \nRegistration is essential. You will need to join AMA Victoria as a student member (which is free) to complete your registration. Membership and registration allow us to share event information\, the recording\, supporting resources and responses to questions.
URL:https://www.pmcv.com.au/pmcv-event/preparing-for-the-vrpa-online-interview/
LOCATION:Online
CATEGORIES:Intern Match
END:VEVENT
END:VCALENDAR