BEGIN:VCALENDAR
VERSION:2.0
PRODID:-//PMCV - ECPv6.15.20//NONSGML v1.0//EN
CALSCALE:GREGORIAN
METHOD:PUBLISH
X-ORIGINAL-URL:https://www.pmcv.com.au
X-WR-CALDESC:Events for PMCV
REFRESH-INTERVAL;VALUE=DURATION:PT1H
X-Robots-Tag:noindex
X-PUBLISHED-TTL:PT1H
BEGIN:VTIMEZONE
TZID:Australia/Melbourne
BEGIN:STANDARD
TZOFFSETFROM:+1100
TZOFFSETTO:+1000
TZNAME:AEST
DTSTART:20250405T160000
END:STANDARD
BEGIN:DAYLIGHT
TZOFFSETFROM:+1000
TZOFFSETTO:+1100
TZNAME:AEDT
DTSTART:20251004T160000
END:DAYLIGHT
BEGIN:STANDARD
TZOFFSETFROM:+1100
TZOFFSETTO:+1000
TZNAME:AEST
DTSTART:20260404T160000
END:STANDARD
BEGIN:DAYLIGHT
TZOFFSETFROM:+1000
TZOFFSETTO:+1100
TZNAME:AEDT
DTSTART:20261003T160000
END:DAYLIGHT
BEGIN:STANDARD
TZOFFSETFROM:+1100
TZOFFSETTO:+1000
TZNAME:AEST
DTSTART:20270403T160000
END:STANDARD
BEGIN:DAYLIGHT
TZOFFSETFROM:+1000
TZOFFSETTO:+1100
TZNAME:AEDT
DTSTART:20271002T160000
END:DAYLIGHT
END:VTIMEZONE
BEGIN:VEVENT
DTSTART;TZID=Australia/Melbourne:20260428T100000
DTEND;TZID=Australia/Melbourne:20260428T113000
DTSTAMP:20260421T043217
CREATED:20260402T015953Z
LAST-MODIFIED:20260402T015954Z
UID:20639-1777370400-1777375800@www.pmcv.com.au
SUMMARY:Eastern Health - Intern Health Service information session
DESCRIPTION:The Eastern Health Intern Health Service Information Session will be held on Tuesday the 28th of April from 10am – 11:30am\, online.  \nThe link to join the session will be made available via the Intern recruitment page.
URL:https://www.pmcv.com.au/pmcv-event/eastern-health-intern-health-service-information-session/
LOCATION:Online
CATEGORIES:Intern Match
END:VEVENT
BEGIN:VEVENT
DTSTART;TZID=Australia/Melbourne:20260428T160000
DTEND;TZID=Australia/Melbourne:20260428T163000
DTSTAMP:20260421T043217
CREATED:20260413T050732Z
LAST-MODIFIED:20260413T051155Z
UID:20943-1777392000-1777393800@www.pmcv.com.au
SUMMARY:St Vincent's Hospital Tour
DESCRIPTION:St Vincent’s Hospital Melbourne is excited to be offering Hospital tours for prospective 2027 Interns. \nOur 30 minute tours will be guided by one of our current Interns\, to show you around some of our key areas of the Hospital. You will be greeted by a member of the Medical Education Team\, so this is a perfect opportunity to ask any questions you may have\, get to know us\, and hear some lived experiences from our current Intern cohort. \nRegister now via: https://www.trybooking.com/events/landing/1560600
URL:https://www.pmcv.com.au/pmcv-event/st-vincents-hospital-tour-4/
LOCATION:St Vincent’s Hospital Melbourne\, 41 Victoria Parade\, Fitzroy\, Victoria\, 3065\, Australia
CATEGORIES:Intern Match
END:VEVENT
BEGIN:VEVENT
DTSTART;TZID=Australia/Melbourne:20260428T160000
DTEND;TZID=Australia/Melbourne:20260428T170000
DTSTAMP:20260421T043217
CREATED:20260330T042152Z
LAST-MODIFIED:20260330T042152Z
UID:20600-1777392000-1777395600@www.pmcv.com.au
SUMMARY:Barwon Health - Intern Health Service Information Session
DESCRIPTION:The Barwon Health Intern Health Service Information Session will be held on Tuesday the 28th of April from 4:00pm – 5:00pm. \nJoin the session via teams \nMeeting ID: 465 800 856 092 76 \nPasscode: BY2LZ6zy
URL:https://www.pmcv.com.au/pmcv-event/barwon-health-intern-health-service-information-session/
LOCATION:Online
CATEGORIES:Intern Match
END:VEVENT
BEGIN:VEVENT
DTSTART;TZID=Australia/Melbourne:20260428T173000
DTEND;TZID=Australia/Melbourne:20260428T193000
DTSTAMP:20260421T043217
CREATED:20260310T052013Z
LAST-MODIFIED:20260414T050938Z
UID:20005-1777397400-1777404600@www.pmcv.com.au
SUMMARY:Grampians Health - Intern Health Service Information Session
DESCRIPTION:The Grampians Health Intern Health Service Information Session will be held on Tuesday 28th April\, from 5:30pm to 7:30pm in a hybrid format\, with guest speakers from VRGP joining at 6:30pm. \nLocation: Grampians Health – Ballarat Base Hospital\, Level 2\, CEP Building\, Tutorial rooms 1-3 and online. \nJoin us via MS Teams \nJoin: https://teams.microsoft.com/meet/4993228329865?p=fWtzDTHmuPlK3qLOye \nMeeting ID: 499 322 832 986 5 \nPasscode: oN2cH7DD \nAgenda \n5:30pm – 6:30pm  \nThe Grampians Health team will cover: \n\nAbout Grampians Heath\nCareer pathways and training opportunities\nApplication process\nThe National Framework for Prevocational Medical Training at GH\nEducation & Mentoring programs\nPerspectives from current Junior Doctors\nQuestions\n\n6:30pm – 7:00pm\nGrampians Rural Generalist (VRGP) Intern training program presentation followed by questions \n 
URL:https://www.pmcv.com.au/pmcv-event/grampians-health-intern-health-service-information-session/
LOCATION:Hybrid Event
CATEGORIES:Intern Match
END:VEVENT
END:VCALENDAR