BEGIN:VCALENDAR
VERSION:2.0
PRODID:-//PMCV - ECPv6.15.20//NONSGML v1.0//EN
CALSCALE:GREGORIAN
METHOD:PUBLISH
X-ORIGINAL-URL:https://www.pmcv.com.au
X-WR-CALDESC:Events for PMCV
REFRESH-INTERVAL;VALUE=DURATION:PT1H
X-Robots-Tag:noindex
X-PUBLISHED-TTL:PT1H
BEGIN:VTIMEZONE
TZID:Australia/Melbourne
BEGIN:STANDARD
TZOFFSETFROM:+1100
TZOFFSETTO:+1000
TZNAME:AEST
DTSTART:20250405T160000
END:STANDARD
BEGIN:DAYLIGHT
TZOFFSETFROM:+1000
TZOFFSETTO:+1100
TZNAME:AEDT
DTSTART:20251004T160000
END:DAYLIGHT
BEGIN:STANDARD
TZOFFSETFROM:+1100
TZOFFSETTO:+1000
TZNAME:AEST
DTSTART:20260404T160000
END:STANDARD
BEGIN:DAYLIGHT
TZOFFSETFROM:+1000
TZOFFSETTO:+1100
TZNAME:AEDT
DTSTART:20261003T160000
END:DAYLIGHT
BEGIN:STANDARD
TZOFFSETFROM:+1100
TZOFFSETTO:+1000
TZNAME:AEST
DTSTART:20270403T160000
END:STANDARD
BEGIN:DAYLIGHT
TZOFFSETFROM:+1000
TZOFFSETTO:+1100
TZNAME:AEDT
DTSTART:20271002T160000
END:DAYLIGHT
END:VTIMEZONE
BEGIN:VEVENT
DTSTART;TZID=Australia/Melbourne:20260520T160000
DTEND;TZID=Australia/Melbourne:20260520T163000
DTSTAMP:20260421T062933
CREATED:20260413T051238Z
LAST-MODIFIED:20260413T051238Z
UID:20954-1779292800-1779294600@www.pmcv.com.au
SUMMARY:St Vincent's Hospital Tour
DESCRIPTION:St Vincent’s Hospital Melbourne is excited to be offering Hospital tours for prospective 2027 Interns. \nOur 30 minute tours will be guided by one of our current Interns\, to show you around some of our key areas of the Hospital. You will be greeted by a member of the Medical Education Team\, so this is a perfect opportunity to ask any questions you may have\, get to know us\, and hear some lived experiences from our current Intern cohort. \nRegister now via: https://www.trybooking.com/events/landing/1560600
URL:https://www.pmcv.com.au/pmcv-event/st-vincents-hospital-tour-20-may/
LOCATION:St Vincent’s Hospital Melbourne\, 41 Victoria Parade\, Fitzroy\, Victoria\, 3065\, Australia
CATEGORIES:Intern Match
END:VEVENT
BEGIN:VEVENT
DTSTART;TZID=Australia/Melbourne:20260520T170000
DTEND;TZID=Australia/Melbourne:20260520T190000
DTSTAMP:20260421T062933
CREATED:20260316T215104Z
LAST-MODIFIED:20260316T215104Z
UID:20241-1779296400-1779303600@www.pmcv.com.au
SUMMARY:Monash Health - Intern Health Service Information Session
DESCRIPTION:The Monash Health Intern Health Service Information Session will be held on Wednesday 20th of May\, from 5pm to 7pm online. \nMore details to come.
URL:https://www.pmcv.com.au/pmcv-event/monash-health-intern-health-service-information-session/
LOCATION:Online
CATEGORIES:Intern Match
END:VEVENT
END:VCALENDAR