BEGIN:VCALENDAR
VERSION:2.0
PRODID:-//PMCV - ECPv6.15.20//NONSGML v1.0//EN
CALSCALE:GREGORIAN
METHOD:PUBLISH
X-WR-CALNAME:PMCV
X-ORIGINAL-URL:https://www.pmcv.com.au
X-WR-CALDESC:Events for PMCV
REFRESH-INTERVAL;VALUE=DURATION:PT1H
X-Robots-Tag:noindex
X-PUBLISHED-TTL:PT1H
BEGIN:VTIMEZONE
TZID:Australia/Melbourne
BEGIN:STANDARD
TZOFFSETFROM:+1100
TZOFFSETTO:+1000
TZNAME:AEST
DTSTART:20250405T160000
END:STANDARD
BEGIN:DAYLIGHT
TZOFFSETFROM:+1000
TZOFFSETTO:+1100
TZNAME:AEDT
DTSTART:20251004T160000
END:DAYLIGHT
BEGIN:STANDARD
TZOFFSETFROM:+1100
TZOFFSETTO:+1000
TZNAME:AEST
DTSTART:20260404T160000
END:STANDARD
BEGIN:DAYLIGHT
TZOFFSETFROM:+1000
TZOFFSETTO:+1100
TZNAME:AEDT
DTSTART:20261003T160000
END:DAYLIGHT
BEGIN:STANDARD
TZOFFSETFROM:+1100
TZOFFSETTO:+1000
TZNAME:AEST
DTSTART:20270403T160000
END:STANDARD
BEGIN:DAYLIGHT
TZOFFSETFROM:+1000
TZOFFSETTO:+1100
TZNAME:AEDT
DTSTART:20271002T160000
END:DAYLIGHT
END:VTIMEZONE
BEGIN:VEVENT
DTSTART;TZID=Australia/Melbourne:20260421T160000
DTEND;TZID=Australia/Melbourne:20260421T163000
DTSTAMP:20260421T142610
CREATED:20260413T050633Z
LAST-MODIFIED:20260413T050633Z
UID:20940-1776787200-1776789000@www.pmcv.com.au
SUMMARY:St Vincent's Hospital Tour
DESCRIPTION:St Vincent’s Hospital Melbourne is excited to be offering Hospital tours for prospective 2027 Interns. \nOur 30 minute tours will be guided by one of our current Interns\, to show you around some of our key areas of the Hospital. You will be greeted by a member of the Medical Education Team\, so this is a perfect opportunity to ask any questions you may have\, get to know us\, and hear some lived experiences from our current Intern cohort. \nRegister now via: https://www.trybooking.com/events/landing/1560600
URL:https://www.pmcv.com.au/pmcv-event/st-vincents-hospital-tour-2/
LOCATION:St Vincent’s Hospital Melbourne\, 41 Victoria Parade\, Fitzroy\, Victoria\, 3065\, Australia
CATEGORIES:Intern Match
END:VEVENT
BEGIN:VEVENT
DTSTART;TZID=Australia/Melbourne:20260421T173000
DTEND;TZID=Australia/Melbourne:20260421T190000
DTSTAMP:20260421T142610
CREATED:20260409T231210Z
LAST-MODIFIED:20260413T045457Z
UID:20831-1776792600-1776798000@www.pmcv.com.au
SUMMARY:Bayside Health - Peninsula Care Group Intern Information Session
DESCRIPTION:Bayside Health – Peninsula Care Group\nTuesday 21st April 5:30 – 7pm online\nLink: https://teams.microsoft.com/l/meetup-join/19%3ameeting_ZDdiNGM2NTEtNmI4ZS00MWU1LTkxZTAtODNmNDE0MzYwZWRl%40thread.v2/0?context=%7b%22Tid%22%3a%22ced378bd-4e5a-4a1d-a58f-6b5e3da1839b%22%2c%22Oid%22%3a%2261145045-4a42-4160-ab1b-6b0a1ed37ee9%22%7d
URL:https://www.pmcv.com.au/pmcv-event/bayside-health-peninsula-care-group-intern-information-session/
LOCATION:Online
CATEGORIES:Intern Match
END:VEVENT
BEGIN:VEVENT
DTSTART;TZID=Australia/Melbourne:20260421T180000
DTEND;TZID=Australia/Melbourne:20260421T193000
DTSTAMP:20260421T142610
CREATED:20260413T002440Z
LAST-MODIFIED:20260413T045412Z
UID:20905-1776794400-1776799800@www.pmcv.com.au
SUMMARY:Victorian Rural Generalist Program Webinar
DESCRIPTION:Victorian Rural Generalist Program Webinar \nTuesday April 21st at 6pm \nMicrosoft Teams meeting \nJoin: https://teams.microsoft.com/meet/45532440008201?p=OPD9LZ0n5cWNNqDtLp
URL:https://www.pmcv.com.au/pmcv-event/victorian-rural-generalist-program-webinar/
LOCATION:Online
CATEGORIES:Intern Match
END:VEVENT
BEGIN:VEVENT
DTSTART;TZID=Australia/Melbourne:20260422T163000
DTEND;TZID=Australia/Melbourne:20260422T180000
DTSTAMP:20260421T142610
CREATED:20260318T221520Z
LAST-MODIFIED:20260318T221520Z
UID:20410-1776875400-1776880800@www.pmcv.com.au
SUMMARY:Bendigo Health - Intern Health Service Information Session (Online)
DESCRIPTION:The Bendigo Health Intern Health Service Information Session will be held on Wednesday 22nd April\, from 4:30pm online.  \nYou can register for the session online by clicking here. \nThey are also running an in-person session\, you can view details here.
URL:https://www.pmcv.com.au/pmcv-event/bendigo-health-intern-health-service-information-session-online/
LOCATION:Online
CATEGORIES:Intern Match
END:VEVENT
BEGIN:VEVENT
DTSTART;TZID=Australia/Melbourne:20260423T173000
DTEND;TZID=Australia/Melbourne:20260423T190000
DTSTAMP:20260421T142610
CREATED:20260317T011018Z
LAST-MODIFIED:20260402T024028Z
UID:20298-1776965400-1776970800@www.pmcv.com.au
SUMMARY:Austin Health - Intern Health Service Information Session
DESCRIPTION:The Austin Health Intern Health Service Information Session will be held on Wednesday 23rd April 5:30pm-7:00pm\, online. \nYou can join the session by clicking here.
URL:https://www.pmcv.com.au/pmcv-event/austin-health-intern-health-service-information-session/
LOCATION:Online
CATEGORIES:Intern Match
END:VEVENT
BEGIN:VEVENT
DTSTART;TZID=Australia/Melbourne:20260424T160000
DTEND;TZID=Australia/Melbourne:20260424T163000
DTSTAMP:20260421T142610
CREATED:20260413T050708Z
LAST-MODIFIED:20260413T050708Z
UID:20942-1777046400-1777048200@www.pmcv.com.au
SUMMARY:St Vincent's Hospital Tour
DESCRIPTION:St Vincent’s Hospital Melbourne is excited to be offering Hospital tours for prospective 2027 Interns. \nOur 30 minute tours will be guided by one of our current Interns\, to show you around some of our key areas of the Hospital. You will be greeted by a member of the Medical Education Team\, so this is a perfect opportunity to ask any questions you may have\, get to know us\, and hear some lived experiences from our current Intern cohort. \nRegister now via: https://www.trybooking.com/events/landing/1560600
URL:https://www.pmcv.com.au/pmcv-event/st-vincents-hospital-tour-3/
LOCATION:St Vincent’s Hospital Melbourne\, 41 Victoria Parade\, Fitzroy\, Victoria\, 3065\, Australia
CATEGORIES:Intern Match
END:VEVENT
BEGIN:VEVENT
DTSTART;TZID=Australia/Melbourne:20260424T180000
DTEND;TZID=Australia/Melbourne:20260424T190000
DTSTAMP:20260421T142610
CREATED:20260402T004627Z
LAST-MODIFIED:20260416T071535Z
UID:20628-1777053600-1777057200@www.pmcv.com.au
SUMMARY:Northeast Health Wangaratta - Intern Health Service Information Sessions
DESCRIPTION:The Northeast Health Wangaratta Intern Health Service Information Session will be held on Friday the 24th of April from 6:00pm to 7:00pm online. \nWebinar details:\nNortheast Health Wangaratta\nFriday 24 April\, 6:00–7:00pm \n  \nMicrosoft Teams meeting  \nJoin: https://teams.microsoft.com/meet/41600393701735?p=NVfKtzIjFnIjUnzmLj \nMeeting ID: 416 003 937 017 35 \nPasscode: Ea76ZW9b \nThey are also holding a joint in-person open day and tour with Hume M2M Intern Program that you can learn more about here.
URL:https://www.pmcv.com.au/pmcv-event/northeast-health-wangaratta-intern-health-service-information-sessions/
LOCATION:Online
CATEGORIES:Intern Match
END:VEVENT
BEGIN:VEVENT
DTSTART;TZID=Australia/Melbourne:20260427T160000
DTEND;TZID=Australia/Melbourne:20260427T170000
DTSTAMP:20260421T142610
CREATED:20260413T045947Z
LAST-MODIFIED:20260415T072351Z
UID:20934-1777305600-1777309200@www.pmcv.com.au
SUMMARY:Werribee Mercy Intern Information Session
DESCRIPTION:Werribee Mercy’s Intern Information Session will be taking place on Monday the 27th of April between 4pm-5pm via MS Teams. \nMicrosoft Teams meeting \nJoin: https://teams.microsoft.com/meet/43744614603163?p=UtatcJMaKNnCxSiEPb \nMeeting ID: 437 446 146 031 63 \nPasscode: gG9rq2gD \nNeed help? | System reference \nJoin on a video conferencing device \nTenant key: mercyhealthau@m.webex.com \nVideo ID: 137 145 880 1
URL:https://www.pmcv.com.au/pmcv-event/werribee-mercy-intern-information-session/
LOCATION:Online
CATEGORIES:Intern Match
END:VEVENT
BEGIN:VEVENT
DTSTART;TZID=Australia/Melbourne:20260427T173000
DTEND;TZID=Australia/Melbourne:20260427T183000
DTSTAMP:20260421T142610
CREATED:20260401T052451Z
LAST-MODIFIED:20260413T050054Z
UID:20619-1777311000-1777314600@www.pmcv.com.au
SUMMARY:Western Health - Intern Health Service Information Session
DESCRIPTION:The Western Health Intern Health Service Information Session will be held on Monday 27th April 5:30pm-6:30pm\, online. \nThis is our session registration link: https://www.trybooking.com/DLDAR
URL:https://www.pmcv.com.au/pmcv-event/western-health-intern-health-service-information-session/
LOCATION:Online
CATEGORIES:Intern Match
END:VEVENT
BEGIN:VEVENT
DTSTART;TZID=Australia/Melbourne:20260427T180000
DTEND;TZID=Australia/Melbourne:20260427T190000
DTSTAMP:20260421T142610
CREATED:20260413T003032Z
LAST-MODIFIED:20260413T045317Z
UID:20907-1777312800-1777316400@www.pmcv.com.au
SUMMARY:BRHS / VRGP Gippsland Health Service Information Session
DESCRIPTION:This session will be held via Teams on \nMonday 27 April 1800 – 1900 \nMore details to follow
URL:https://www.pmcv.com.au/pmcv-event/brhs-vrgp-gippsland-health-service-information-session/
LOCATION:Online
CATEGORIES:Intern Match
END:VEVENT
BEGIN:VEVENT
DTSTART;TZID=Australia/Melbourne:20260428T100000
DTEND;TZID=Australia/Melbourne:20260428T113000
DTSTAMP:20260421T142610
CREATED:20260402T015953Z
LAST-MODIFIED:20260402T015954Z
UID:20639-1777370400-1777375800@www.pmcv.com.au
SUMMARY:Eastern Health - Intern Health Service information session
DESCRIPTION:The Eastern Health Intern Health Service Information Session will be held on Tuesday the 28th of April from 10am – 11:30am\, online.  \nThe link to join the session will be made available via the Intern recruitment page.
URL:https://www.pmcv.com.au/pmcv-event/eastern-health-intern-health-service-information-session/
LOCATION:Online
CATEGORIES:Intern Match
END:VEVENT
BEGIN:VEVENT
DTSTART;TZID=Australia/Melbourne:20260428T160000
DTEND;TZID=Australia/Melbourne:20260428T163000
DTSTAMP:20260421T142610
CREATED:20260413T050732Z
LAST-MODIFIED:20260413T051155Z
UID:20943-1777392000-1777393800@www.pmcv.com.au
SUMMARY:St Vincent's Hospital Tour
DESCRIPTION:St Vincent’s Hospital Melbourne is excited to be offering Hospital tours for prospective 2027 Interns. \nOur 30 minute tours will be guided by one of our current Interns\, to show you around some of our key areas of the Hospital. You will be greeted by a member of the Medical Education Team\, so this is a perfect opportunity to ask any questions you may have\, get to know us\, and hear some lived experiences from our current Intern cohort. \nRegister now via: https://www.trybooking.com/events/landing/1560600
URL:https://www.pmcv.com.au/pmcv-event/st-vincents-hospital-tour-4/
LOCATION:St Vincent’s Hospital Melbourne\, 41 Victoria Parade\, Fitzroy\, Victoria\, 3065\, Australia
CATEGORIES:Intern Match
END:VEVENT
BEGIN:VEVENT
DTSTART;TZID=Australia/Melbourne:20260428T160000
DTEND;TZID=Australia/Melbourne:20260428T170000
DTSTAMP:20260421T142610
CREATED:20260330T042152Z
LAST-MODIFIED:20260330T042152Z
UID:20600-1777392000-1777395600@www.pmcv.com.au
SUMMARY:Barwon Health - Intern Health Service Information Session
DESCRIPTION:The Barwon Health Intern Health Service Information Session will be held on Tuesday the 28th of April from 4:00pm – 5:00pm. \nJoin the session via teams \nMeeting ID: 465 800 856 092 76 \nPasscode: BY2LZ6zy
URL:https://www.pmcv.com.au/pmcv-event/barwon-health-intern-health-service-information-session/
LOCATION:Online
CATEGORIES:Intern Match
END:VEVENT
BEGIN:VEVENT
DTSTART;TZID=Australia/Melbourne:20260428T173000
DTEND;TZID=Australia/Melbourne:20260428T193000
DTSTAMP:20260421T142610
CREATED:20260310T052013Z
LAST-MODIFIED:20260414T050938Z
UID:20005-1777397400-1777404600@www.pmcv.com.au
SUMMARY:Grampians Health - Intern Health Service Information Session
DESCRIPTION:The Grampians Health Intern Health Service Information Session will be held on Tuesday 28th April\, from 5:30pm to 7:30pm in a hybrid format\, with guest speakers from VRGP joining at 6:30pm. \nLocation: Grampians Health – Ballarat Base Hospital\, Level 2\, CEP Building\, Tutorial rooms 1-3 and online. \nJoin us via MS Teams \nJoin: https://teams.microsoft.com/meet/4993228329865?p=fWtzDTHmuPlK3qLOye \nMeeting ID: 499 322 832 986 5 \nPasscode: oN2cH7DD \nAgenda \n5:30pm – 6:30pm  \nThe Grampians Health team will cover: \n\nAbout Grampians Heath\nCareer pathways and training opportunities\nApplication process\nThe National Framework for Prevocational Medical Training at GH\nEducation & Mentoring programs\nPerspectives from current Junior Doctors\nQuestions\n\n6:30pm – 7:00pm\nGrampians Rural Generalist (VRGP) Intern training program presentation followed by questions \n 
URL:https://www.pmcv.com.au/pmcv-event/grampians-health-intern-health-service-information-session/
LOCATION:Hybrid Event
CATEGORIES:Intern Match
END:VEVENT
BEGIN:VEVENT
DTSTART;TZID=Australia/Melbourne:20260429T160000
DTEND;TZID=Australia/Melbourne:20260429T163000
DTSTAMP:20260421T142610
CREATED:20260413T050804Z
LAST-MODIFIED:20260413T050804Z
UID:20945-1777478400-1777480200@www.pmcv.com.au
SUMMARY:St Vincent's Hospital Tour
DESCRIPTION:St Vincent’s Hospital Melbourne is excited to be offering Hospital tours for prospective 2027 Interns. \nOur 30 minute tours will be guided by one of our current Interns\, to show you around some of our key areas of the Hospital. You will be greeted by a member of the Medical Education Team\, so this is a perfect opportunity to ask any questions you may have\, get to know us\, and hear some lived experiences from our current Intern cohort. \nRegister now via: https://www.trybooking.com/events/landing/1560600
URL:https://www.pmcv.com.au/pmcv-event/st-vincents-hospital-tour-29-april/
LOCATION:St Vincent’s Hospital Melbourne\, 41 Victoria Parade\, Fitzroy\, Victoria\, 3065\, Australia
CATEGORIES:Intern Match
END:VEVENT
BEGIN:VEVENT
DTSTART;TZID=Australia/Melbourne:20260429T170000
DTEND;TZID=Australia/Melbourne:20260429T180000
DTSTAMP:20260421T142610
CREATED:20260310T052532Z
LAST-MODIFIED:20260311T032342Z
UID:20009-1777482000-1777485600@www.pmcv.com.au
SUMMARY:Goulburn Valley Health - Intern Health Service Information Session
DESCRIPTION:The Goulburn Valley Health Intern Health Service Information Session will be held on Wednesday 29th April\, from 5pm to 6pm online. \nYou can join the session online by clicking here. \n 
URL:https://www.pmcv.com.au/pmcv-event/goulburn-valley-health-intern-health-service-information-session/
LOCATION:Online
CATEGORIES:Intern Match
END:VEVENT
BEGIN:VEVENT
DTSTART;TZID=Australia/Melbourne:20260429T170000
DTEND;TZID=Australia/Melbourne:20260429T190000
DTSTAMP:20260421T142610
CREATED:20260306T035017Z
LAST-MODIFIED:20260413T051819Z
UID:19880-1777482000-1777489200@www.pmcv.com.au
SUMMARY:Northern Health - Intern Health Service Information Session
DESCRIPTION:The Northern Health Intern Health Service Information Session will be held on Wednesday 29th April\, from 5pm to 7pm online. \nJoin via: \nhttps://teams.microsoft.com/meet/41531042030745?p=3cQITSu7zl4X7Da2QL \nMeeting ID: 415 310 420 307 45 \nPasscode: DV9rS2pJ \n 
URL:https://www.pmcv.com.au/pmcv-event/northern-health-intern-health-service-information-session/
LOCATION:Online
CATEGORIES:Intern Match
END:VEVENT
BEGIN:VEVENT
DTSTART;TZID=Australia/Melbourne:20260429T173000
DTEND;TZID=Australia/Melbourne:20260429T193000
DTSTAMP:20260421T142610
CREATED:20260318T220431Z
LAST-MODIFIED:20260414T050321Z
UID:20406-1777483800-1777491000@www.pmcv.com.au
SUMMARY:Alfred Health - Intern Health Service Information Session
DESCRIPTION:The Alfred Health Intern Health Service Information Session will be held on Wednesday the 19th of April\, from 5:30pm– 7:30pm online.  \nYou can register to join this event via: https://www.eventbrite.com.au/e/bayside-health-alfred-care-group-2027-virtual-intern-information-session-tickets-1985560273227?
URL:https://www.pmcv.com.au/pmcv-event/alfred-health-intern-health-service-information-session/
LOCATION:Online
CATEGORIES:Intern Match
END:VEVENT
BEGIN:VEVENT
DTSTART;TZID=Australia/Melbourne:20260430T170000
DTEND;TZID=Australia/Melbourne:20260430T180000
DTSTAMP:20260421T142610
CREATED:20260413T051644Z
LAST-MODIFIED:20260420T065857Z
UID:20959-1777568400-1777572000@www.pmcv.com.au
SUMMARY:Latrobe Regional Health Intern Information Session
DESCRIPTION:The Latrobe Regional Health Intern Information Session will take place online on Thursday 30th April 2026 between 5-6pm
URL:https://www.pmcv.com.au/pmcv-event/latrobe-regional-health-intern-information-session/
LOCATION:Online
CATEGORIES:Intern Match
END:VEVENT
BEGIN:VEVENT
DTSTART;TZID=Australia/Melbourne:20260430T180000
DTEND;TZID=Australia/Melbourne:20260430T190000
DTSTAMP:20260421T142610
CREATED:20260316T221105Z
LAST-MODIFIED:20260317T010922Z
UID:20243-1777572000-1777575600@www.pmcv.com.au
SUMMARY:Albury Wodonga Health - Intern Health Service Information Session
DESCRIPTION:The Albury Wodonga Health Intern Health Service Information Session will be held on Thursday the 30th April\, from 6pm – 7pm online.  \nMore details to come.
URL:https://www.pmcv.com.au/pmcv-event/albury-wodonga-health-health-service-information-session/
LOCATION:Online
CATEGORIES:Intern Match
END:VEVENT
BEGIN:VEVENT
DTSTART;TZID=Australia/Melbourne:20260430T190000
DTEND;TZID=Australia/Melbourne:20260430T200000
DTSTAMP:20260421T142610
CREATED:20260413T051953Z
LAST-MODIFIED:20260414T031546Z
UID:20963-1777575600-1777579200@www.pmcv.com.au
SUMMARY:2027 Internship at Echuca Regional Health - A Strong Start
DESCRIPTION:The second Intern Information Session from Echuca Regional Health is taking place on the 30th of April at 7pm. \n‘2027 Internship at ERH – A Strong Start’ Thursday 30th April 1900-2000 \nhttps://teams.microsoft.com/meet/44812919928110?p=7BnEtlwEoQywiYV5HV \nMeeting ID: 448 129 199 281 10 \nPasscode: TN2eN7NY
URL:https://www.pmcv.com.au/pmcv-event/2027-internship-at-echuca-regional-health-a-strong-start/
LOCATION:Online
CATEGORIES:Intern Match
END:VEVENT
END:VCALENDAR