BEGIN:VCALENDAR
VERSION:2.0
PRODID:-//PMCV - ECPv6.15.20//NONSGML v1.0//EN
CALSCALE:GREGORIAN
METHOD:PUBLISH
X-WR-CALNAME:PMCV
X-ORIGINAL-URL:https://www.pmcv.com.au
X-WR-CALDESC:Events for PMCV
REFRESH-INTERVAL;VALUE=DURATION:PT1H
X-Robots-Tag:noindex
X-PUBLISHED-TTL:PT1H
BEGIN:VTIMEZONE
TZID:Australia/Melbourne
BEGIN:STANDARD
TZOFFSETFROM:+1100
TZOFFSETTO:+1000
TZNAME:AEST
DTSTART:20220402T160000
END:STANDARD
BEGIN:DAYLIGHT
TZOFFSETFROM:+1000
TZOFFSETTO:+1100
TZNAME:AEDT
DTSTART:20221001T160000
END:DAYLIGHT
BEGIN:STANDARD
TZOFFSETFROM:+1100
TZOFFSETTO:+1000
TZNAME:AEST
DTSTART:20230401T160000
END:STANDARD
BEGIN:DAYLIGHT
TZOFFSETFROM:+1000
TZOFFSETTO:+1100
TZNAME:AEDT
DTSTART:20230930T160000
END:DAYLIGHT
BEGIN:STANDARD
TZOFFSETFROM:+1100
TZOFFSETTO:+1000
TZNAME:AEST
DTSTART:20240406T160000
END:STANDARD
BEGIN:DAYLIGHT
TZOFFSETFROM:+1000
TZOFFSETTO:+1100
TZNAME:AEDT
DTSTART:20241005T160000
END:DAYLIGHT
BEGIN:STANDARD
TZOFFSETFROM:+1100
TZOFFSETTO:+1000
TZNAME:AEST
DTSTART:20250405T160000
END:STANDARD
BEGIN:DAYLIGHT
TZOFFSETFROM:+1000
TZOFFSETTO:+1100
TZNAME:AEDT
DTSTART:20251004T160000
END:DAYLIGHT
BEGIN:STANDARD
TZOFFSETFROM:+1100
TZOFFSETTO:+1000
TZNAME:AEST
DTSTART:20260404T160000
END:STANDARD
BEGIN:DAYLIGHT
TZOFFSETFROM:+1000
TZOFFSETTO:+1100
TZNAME:AEDT
DTSTART:20261003T160000
END:DAYLIGHT
END:VTIMEZONE
BEGIN:VEVENT
DTSTART;TZID=Australia/Melbourne:20250429T160000
DTEND;TZID=Australia/Melbourne:20250429T170000
DTSTAMP:20260421T142638
CREATED:20250303T235337Z
LAST-MODIFIED:20250415T003603Z
UID:14761-1745942400-1745946000@www.pmcv.com.au
SUMMARY:Barwon Health Intern Information Session
DESCRIPTION:Date: April 29th at 4.00pm \nVenue: Health\, Education & Research Building (HERB) Lecture Theatre \nAddress: 285–299 Ryrie Street\, Geelong \nDirections: Opposite University Hospital Geelong Emergency Department\, entry is via Kitchener House (KHERB). \n  \nJoin the webinar from your PC or device: \nZoom link: click here \nWebinar ID: 893 1765 4772 \nPasscode: 708355
URL:https://www.pmcv.com.au/pmcv-event/barwon-health-information-session/
LOCATION:Hybrid Event
CATEGORIES:Career Event,Intern Match
END:VEVENT
BEGIN:VEVENT
DTSTART;TZID=Australia/Melbourne:20250428T170000
DTEND;TZID=Australia/Melbourne:20250428T190000
DTSTAMP:20260421T142638
CREATED:20250304T001202Z
LAST-MODIFIED:20250415T003539Z
UID:14780-1745859600-1745866800@www.pmcv.com.au
SUMMARY:Grampians Health and Grampians VRGP Intern Information Session
DESCRIPTION:https://www.pmcv.com.au/wp-content/uploads/2025/03/Grampians-PGY1-Information-Night.pdf \nThis is a hybrid event. Join us in the Grampians Health Education Centre\, CEP Building Level 2\, 1 Drummond St Nth\, Ballarat.  \nor via MS teams \n Join the meeting now \nMeeting ID: 430 447 322 402 \nPasscode: gy3EP9Xk
URL:https://www.pmcv.com.au/pmcv-event/grampians-health-and-grampians-vrgp-information-session/
LOCATION:Hybrid Event
CATEGORIES:Career Event,Intern Match
END:VEVENT
BEGIN:VEVENT
DTSTART;TZID=Australia/Melbourne:20240430T160000
DTEND;TZID=Australia/Melbourne:20240430T170000
DTSTAMP:20260421T142638
CREATED:20240315T054322Z
LAST-MODIFIED:20240423T032114Z
UID:11361-1714492800-1714496400@www.pmcv.com.au
SUMMARY:2024 Barwon Health Intern Information Session
DESCRIPTION:The Barwon Health Intern Information Session will be happening Tuesday 30th of April 2024 at 4:00pm \nAttend the event in person: \nVenue: Health\, Education & Research Building (HERB) Lecture Theatre \nAddress: 285–299 Ryrie Street\, Geelong \nDirections: Opposite University Hospital Geelong Emergency Department\, entry is via Kitchener House (KHERB). \nJoin the webinar from your PC or device: \nhttps://barwonhealth-org-au.zoom.us/j/82913477690?pwd=zC2wWMqFUrLM4Yer5LJ4jKq5O5wOpg.5kpswaDcqImSTnWX \nWebinar ID: 829 1347 7690  Passcode: 203594 \n  \nThe session will also be recorded and uploaded to Barwon Health’s website following the event.
URL:https://www.pmcv.com.au/pmcv-event/2024-barwon-health-intern-information-session/
LOCATION:Hybrid Event
CATEGORIES:Career Event
END:VEVENT
BEGIN:VEVENT
DTSTART;TZID=Australia/Melbourne:20240415T163000
DTEND;TZID=Australia/Melbourne:20240415T173000
DTSTAMP:20260421T142638
CREATED:20240315T051044Z
LAST-MODIFIED:20240317T234102Z
UID:11349-1713198600-1713202200@www.pmcv.com.au
SUMMARY:2024 Mercy Health Intern Information Session
DESCRIPTION:The Mercy Health Intern Information Session will be held on Monday 15th of April from 4:30pm – 5:30pm via zoom. \n\n\n\nJoin Zoom Meeting\n\n\nOne tap mobile:\nAustralia: +61731853730\,\,6557225253#\,\,\,\,*475323# or +61861193900\,\,6557225253#\,\,\,\,*475323#\n\n\nMeeting URL:\nhttps://mercyhealthau.zoom.us/j/6557225253?pwd=WHYxVmRtZEt3bkRCMWZRR2lLQVRmQT09&omn=98240565311\n\n\nMeeting ID:\n655 722 5253\n\n\nPasscode:\n2j9MCb
URL:https://www.pmcv.com.au/pmcv-event/2024-mercy-health-intern-information-session/
LOCATION:Hybrid Event
CATEGORIES:Career Event
END:VEVENT
BEGIN:VEVENT
DTSTART;TZID=Australia/Melbourne:20240411T170000
DTEND;TZID=Australia/Melbourne:20240411T190000
DTSTAMP:20260421T142638
CREATED:20240315T050405Z
LAST-MODIFIED:20240315T050405Z
UID:11344-1712854800-1712862000@www.pmcv.com.au
SUMMARY:2024 St. Vincent's Hospital Melbourne Intern Information Session
DESCRIPTION:The St. Vincents Hospital Melbourne Intern Information Session will be happening Thursday 11th of April at 5pm. \nSVHM website is the best place to find all information about the Open Evening\, including: \n– Booking a ticket for in-person attendance\n– Submitting a question prior to the Open Evening\n– Booking a Hospital tour\nhttps://www.svhm.org.au/careers/career-options/medical-careers/interns\n\n[fusion_button link=”https://teams.microsoft.com/l/meetup-join/19%3ameeting_ODZjZTNiMmUtYjI3MC00OWQ0LWFmMmMtY2UyM2YzYWY1NTIy%40thread.v2/0?context=%7b%22Tid%22%3a%220efe9a78-ee2f-44a1-aa0f-83011f5d244d%22%2c%22Oid%22%3a%2291de01b0-07e9-47df-bdcc-41e8fa9ce38f%22%7d ” title=”” target=”_self” link_attributes=”” alignment_medium=”” alignment_small=”” alignment=”” modal=”” hide_on_mobile=”small-visibility\,medium-visibility\,large-visibility” sticky_display=”normal\,sticky” class=”” id=”” color=”default” button_gradient_top_color_hover=”” hue=”” saturation=”” lightness=”” alpha=”” button_gradient_top_color=”” button_gradient_bottom_color_hover=”” button_gradient_bottom_color=”” gradient_start_position=”” gradient_end_position=”” gradient_type=”” radial_direction=”” linear_angle=”180″ accent_hover_color=”” accent_color=”” type=”” bevel_color=”” bevel_color_hover=”” border_top=”” border_right=”” border_bottom=”” border_left=”” border_radius_top_left=”” border_radius_top_right=”” border_radius_bottom_right=”” border_radius_bottom_left=”” border_hover_color=”” border_color=”” size=”” padding_top=”” padding_right=”” padding_bottom=”” padding_left=”” fusion_font_family_button_font=”” fusion_font_variant_button_font=”” font_size=”” line_height=”” letter_spacing=”” text_transform=”” stretch=”default” margin_top=”” margin_right=”” margin_bottom=”” margin_left=”” icon=”” icon_position=”left” icon_divider=”no” hover_transition=”none” animation_type=”” animation_direction=”left” animation_color=”” animation_speed=”0.3″ animation_delay=”0″ animation_offset=””]Join Session Here[/fusion_button]
URL:https://www.pmcv.com.au/pmcv-event/2024-st-vincents-hospital-melbourne-intern-information-session/
LOCATION:Hybrid Event
CATEGORIES:Career Event
END:VEVENT
BEGIN:VEVENT
DTSTART;TZID=Australia/Melbourne:20230923T100000
DTEND;TZID=Australia/Melbourne:20230923T140000
DTSTAMP:20260421T142638
CREATED:20230904T050135Z
LAST-MODIFIED:20230904T050212Z
UID:9304-1695463200-1695477600@www.pmcv.com.au
SUMMARY:Doctors Caring for Colleagues Workshop
DESCRIPTION:This interactive program features an array of essential topics\, including: \n– Being the doctor’s doctor – a framework for consultations with doctors as patients.\n– Self-care – the sustainable doctor.\n– Understanding moral injury\, burnout & PTSD.\n– Rural doctors’ health – barriers & impact of workplaces.\n– Caring for the suicidal doctor.\n– Mandatory reporting & medicolegal matters. \nGain insights from experienced clinicians and local experts exploring the unique WA context. Conclude the day by socializing with DHASWA doctors and like-minded professionals. \nAttendees will receive: \n– 1 hour of Education Activities\n– 3 hours of Reviewing Performance\n– A Certificate of Completion \nWhether you are a doctor\, medical student\, or another health professional working in doctors’ health\, this workshop offers an invaluable opportunity to learn\, grow\, and connect. \nFind out more and secure your spot today at Doctors Caring for Colleagues Workshop | Humanitix \n 
URL:https://www.pmcv.com.au/pmcv-event/doctors-caring-for-colleagues-workshop/
LOCATION:Hybrid Event
CATEGORIES:External
END:VEVENT
END:VCALENDAR