BEGIN:VCALENDAR
VERSION:2.0
PRODID:-//PMCV - ECPv6.15.20//NONSGML v1.0//EN
CALSCALE:GREGORIAN
METHOD:PUBLISH
X-WR-CALNAME:PMCV
X-ORIGINAL-URL:https://www.pmcv.com.au
X-WR-CALDESC:Events for PMCV
REFRESH-INTERVAL;VALUE=DURATION:PT1H
X-Robots-Tag:noindex
X-PUBLISHED-TTL:PT1H
BEGIN:VTIMEZONE
TZID:Australia/Melbourne
BEGIN:STANDARD
TZOFFSETFROM:+1100
TZOFFSETTO:+1000
TZNAME:AEST
DTSTART:20250405T160000
END:STANDARD
BEGIN:DAYLIGHT
TZOFFSETFROM:+1000
TZOFFSETTO:+1100
TZNAME:AEDT
DTSTART:20251004T160000
END:DAYLIGHT
BEGIN:STANDARD
TZOFFSETFROM:+1100
TZOFFSETTO:+1000
TZNAME:AEST
DTSTART:20260404T160000
END:STANDARD
BEGIN:DAYLIGHT
TZOFFSETFROM:+1000
TZOFFSETTO:+1100
TZNAME:AEDT
DTSTART:20261003T160000
END:DAYLIGHT
BEGIN:STANDARD
TZOFFSETFROM:+1100
TZOFFSETTO:+1000
TZNAME:AEST
DTSTART:20270403T160000
END:STANDARD
BEGIN:DAYLIGHT
TZOFFSETFROM:+1000
TZOFFSETTO:+1100
TZNAME:AEDT
DTSTART:20271002T160000
END:DAYLIGHT
END:VTIMEZONE
BEGIN:VEVENT
DTSTART;TZID=Australia/Melbourne:20260428T173000
DTEND;TZID=Australia/Melbourne:20260428T193000
DTSTAMP:20260421T093142
CREATED:20260310T052013Z
LAST-MODIFIED:20260414T050938Z
UID:20005-1777397400-1777404600@www.pmcv.com.au
SUMMARY:Grampians Health - Intern Health Service Information Session
DESCRIPTION:The Grampians Health Intern Health Service Information Session will be held on Tuesday 28th April\, from 5:30pm to 7:30pm in a hybrid format\, with guest speakers from VRGP joining at 6:30pm. \nLocation: Grampians Health – Ballarat Base Hospital\, Level 2\, CEP Building\, Tutorial rooms 1-3 and online. \nJoin us via MS Teams \nJoin: https://teams.microsoft.com/meet/4993228329865?p=fWtzDTHmuPlK3qLOye \nMeeting ID: 499 322 832 986 5 \nPasscode: oN2cH7DD \nAgenda \n5:30pm – 6:30pm  \nThe Grampians Health team will cover: \n\nAbout Grampians Heath\nCareer pathways and training opportunities\nApplication process\nThe National Framework for Prevocational Medical Training at GH\nEducation & Mentoring programs\nPerspectives from current Junior Doctors\nQuestions\n\n6:30pm – 7:00pm\nGrampians Rural Generalist (VRGP) Intern training program presentation followed by questions \n 
URL:https://www.pmcv.com.au/pmcv-event/grampians-health-intern-health-service-information-session/
LOCATION:Hybrid Event
CATEGORIES:Intern Match
END:VEVENT
END:VCALENDAR